BEGIN:VCALENDAR
VERSION:2.0
PRODID:-//Elk Run Vineyard and Winery - ECPv6.15.20//NONSGML v1.0//EN
CALSCALE:GREGORIAN
METHOD:PUBLISH
X-ORIGINAL-URL:https://elkrun.com
X-WR-CALDESC:Events for Elk Run Vineyard and Winery
REFRESH-INTERVAL;VALUE=DURATION:PT1H
X-Robots-Tag:noindex
X-PUBLISHED-TTL:PT1H
BEGIN:VTIMEZONE
TZID:America/New_York
BEGIN:DAYLIGHT
TZOFFSETFROM:-0500
TZOFFSETTO:-0400
TZNAME:EDT
DTSTART:20230312T070000
END:DAYLIGHT
BEGIN:STANDARD
TZOFFSETFROM:-0400
TZOFFSETTO:-0500
TZNAME:EST
DTSTART:20231105T060000
END:STANDARD
BEGIN:DAYLIGHT
TZOFFSETFROM:-0500
TZOFFSETTO:-0400
TZNAME:EDT
DTSTART:20240310T070000
END:DAYLIGHT
BEGIN:STANDARD
TZOFFSETFROM:-0400
TZOFFSETTO:-0500
TZNAME:EST
DTSTART:20241103T060000
END:STANDARD
BEGIN:DAYLIGHT
TZOFFSETFROM:-0500
TZOFFSETTO:-0400
TZNAME:EDT
DTSTART:20250309T070000
END:DAYLIGHT
BEGIN:STANDARD
TZOFFSETFROM:-0400
TZOFFSETTO:-0500
TZNAME:EST
DTSTART:20251102T060000
END:STANDARD
END:VTIMEZONE
BEGIN:VEVENT
DTSTART;TZID=America/New_York:20240525T110000
DTEND;TZID=America/New_York:20240525T180000
DTSTAMP:20260420T075946
CREATED:20240306T151904Z
LAST-MODIFIED:20240306T151904Z
UID:10337-1716634800-1716660000@elkrun.com
SUMMARY:Couples Retreat in the Vines
DESCRIPTION:Come for a couples massage\, flight of wine\, charcuterie board and box of chocolates. Tickets will go on sale soon and will sell fast! $300 \nFor Tickets Click Here
URL:https://elkrun.com/event/couples-retreat-in-the-vines/
CATEGORIES:Event
END:VEVENT
BEGIN:VEVENT
DTSTART;TZID=America/New_York:20240525T120000
DTEND;TZID=America/New_York:20240525T170000
DTSTAMP:20260420T075946
CREATED:20240223T170552Z
LAST-MODIFIED:20240223T170552Z
UID:10221-1716638400-1716656400@elkrun.com
SUMMARY:Food Truck: Cooking with Greece
DESCRIPTION:
URL:https://elkrun.com/event/food-truck-cooking-with-greece-3/
CATEGORIES:Food
END:VEVENT
BEGIN:VEVENT
DTSTART;TZID=America/New_York:20240525T140000
DTEND;TZID=America/New_York:20240525T170000
DTSTAMP:20260420T075946
CREATED:20240306T160348Z
LAST-MODIFIED:20240418T133258Z
UID:10368-1716645600-1716656400@elkrun.com
SUMMARY:Sipping Saturday's Presents: Josh Bayer
DESCRIPTION:https://joshuabayer.com/blog/
URL:https://elkrun.com/event/sipping-saturdays-presents-patrick-smith/
CATEGORIES:Music
END:VEVENT
BEGIN:VEVENT
DTSTART;TZID=America/New_York:20240525T180000
DTEND;TZID=America/New_York:20240525T210000
DTSTAMP:20260420T075946
CREATED:20240306T143154Z
LAST-MODIFIED:20240306T143154Z
UID:10257-1716660000-1716670800@elkrun.com
SUMMARY:Painting With Tammy
DESCRIPTION:
URL:https://elkrun.com/event/painting-with-tammy-2/
CATEGORIES:Class
END:VEVENT
END:VCALENDAR