BEGIN:VCALENDAR
VERSION:2.0
PRODID:-//Elk Run Vineyard and Winery - ECPv6.15.20//NONSGML v1.0//EN
CALSCALE:GREGORIAN
METHOD:PUBLISH
X-WR-CALNAME:Elk Run Vineyard and Winery
X-ORIGINAL-URL:https://elkrun.com
X-WR-CALDESC:Events for Elk Run Vineyard and Winery
REFRESH-INTERVAL;VALUE=DURATION:PT1H
X-Robots-Tag:noindex
X-PUBLISHED-TTL:PT1H
BEGIN:VTIMEZONE
TZID:America/New_York
BEGIN:DAYLIGHT
TZOFFSETFROM:-0500
TZOFFSETTO:-0400
TZNAME:EDT
DTSTART:20230312T070000
END:DAYLIGHT
BEGIN:STANDARD
TZOFFSETFROM:-0400
TZOFFSETTO:-0500
TZNAME:EST
DTSTART:20231105T060000
END:STANDARD
BEGIN:DAYLIGHT
TZOFFSETFROM:-0500
TZOFFSETTO:-0400
TZNAME:EDT
DTSTART:20240310T070000
END:DAYLIGHT
BEGIN:STANDARD
TZOFFSETFROM:-0400
TZOFFSETTO:-0500
TZNAME:EST
DTSTART:20241103T060000
END:STANDARD
BEGIN:DAYLIGHT
TZOFFSETFROM:-0500
TZOFFSETTO:-0400
TZNAME:EDT
DTSTART:20250309T070000
END:DAYLIGHT
BEGIN:STANDARD
TZOFFSETFROM:-0400
TZOFFSETTO:-0500
TZNAME:EST
DTSTART:20251102T060000
END:STANDARD
END:VTIMEZONE
BEGIN:VEVENT
DTSTART;TZID=America/New_York:20240727T130000
DTEND;TZID=America/New_York:20240727T160000
DTSTAMP:20260420T111516
CREATED:20240311T123353Z
LAST-MODIFIED:20240311T123353Z
UID:10398-1722085200-1722096000@elkrun.com
SUMMARY:Food Truck: Traditional Authentic Mexican
DESCRIPTION:For Menu Click Here
URL:https://elkrun.com/event/food-truck-traditional-authentic-mexican-4/
CATEGORIES:Food
END:VEVENT
BEGIN:VEVENT
DTSTART;TZID=America/New_York:20240727T140000
DTEND;TZID=America/New_York:20240727T170000
DTSTAMP:20260420T111516
CREATED:20240619T161517Z
LAST-MODIFIED:20240709T191720Z
UID:10557-1722088800-1722099600@elkrun.com
SUMMARY:Sipping Saturday's Presents: Acoustic Chicks
DESCRIPTION:http://www.facebook.com/acousticchicks
URL:https://elkrun.com/event/sipping-saturdays-presents-tbd/
CATEGORIES:Music
END:VEVENT
BEGIN:VEVENT
DTSTART;TZID=America/New_York:20240727T180000
DTEND;TZID=America/New_York:20240727T210000
DTSTAMP:20260420T111516
CREATED:20240306T152628Z
LAST-MODIFIED:20240306T152628Z
UID:10348-1722103200-1722114000@elkrun.com
SUMMARY:Painting with Tammy
DESCRIPTION:
URL:https://elkrun.com/event/painting-with-tammy-3/
CATEGORIES:Class
END:VEVENT
END:VCALENDAR