BEGIN:VCALENDAR
VERSION:2.0
PRODID:-//Elk Run Vineyard and Winery - ECPv6.15.20//NONSGML v1.0//EN
CALSCALE:GREGORIAN
METHOD:PUBLISH
X-WR-CALNAME:Elk Run Vineyard and Winery
X-ORIGINAL-URL:https://elkrun.com
X-WR-CALDESC:Events for Elk Run Vineyard and Winery
REFRESH-INTERVAL;VALUE=DURATION:PT1H
X-Robots-Tag:noindex
X-PUBLISHED-TTL:PT1H
BEGIN:VTIMEZONE
TZID:America/New_York
BEGIN:DAYLIGHT
TZOFFSETFROM:-0500
TZOFFSETTO:-0400
TZNAME:EDT
DTSTART:20230312T070000
END:DAYLIGHT
BEGIN:STANDARD
TZOFFSETFROM:-0400
TZOFFSETTO:-0500
TZNAME:EST
DTSTART:20231105T060000
END:STANDARD
BEGIN:DAYLIGHT
TZOFFSETFROM:-0500
TZOFFSETTO:-0400
TZNAME:EDT
DTSTART:20240310T070000
END:DAYLIGHT
BEGIN:STANDARD
TZOFFSETFROM:-0400
TZOFFSETTO:-0500
TZNAME:EST
DTSTART:20241103T060000
END:STANDARD
BEGIN:DAYLIGHT
TZOFFSETFROM:-0500
TZOFFSETTO:-0400
TZNAME:EDT
DTSTART:20250309T070000
END:DAYLIGHT
BEGIN:STANDARD
TZOFFSETFROM:-0400
TZOFFSETTO:-0500
TZNAME:EST
DTSTART:20251102T060000
END:STANDARD
END:VTIMEZONE
BEGIN:VEVENT
DTSTART;TZID=America/New_York:20241018T173000
DTEND;TZID=America/New_York:20241018T183000
DTSTAMP:20260421T054207
CREATED:20240828T120455Z
LAST-MODIFIED:20240828T120455Z
UID:10776-1729272600-1729276200@elkrun.com
SUMMARY:Sea Turtle or Grinch SEA GLASS TREE Event
DESCRIPTION:For Tickets Click Here \nSo excited to bring this new project to you. Designed by me personally! This is a 9″ sea glass tree when completed and you can pick from the Green Tree with Grinch — OR Turtle tree which does come with 2 big sea turtles and 3 small sea turtles\, along with a real starfish on top … AND battery operated lights.
URL:https://elkrun.com/event/sea-turtle-or-grinch-sea-glass-tree-event/
END:VEVENT
BEGIN:VEVENT
DTSTART;TZID=America/New_York:20241018T180000
DTEND;TZID=America/New_York:20241018T210000
DTSTAMP:20260421T054207
CREATED:20241016T180241Z
LAST-MODIFIED:20241016T180241Z
UID:10843-1729274400-1729285200@elkrun.com
SUMMARY:Wine Down Friday Presents: Mike Schirf
DESCRIPTION:
URL:https://elkrun.com/event/wine-down-friday-presents-mike-schirf-2/
END:VEVENT
END:VCALENDAR