BEGIN:VCALENDAR
VERSION:2.0
PRODID:-//Elk Run Vineyard and Winery - ECPv6.15.20//NONSGML v1.0//EN
CALSCALE:GREGORIAN
METHOD:PUBLISH
X-ORIGINAL-URL:https://elkrun.com
X-WR-CALDESC:Events for Elk Run Vineyard and Winery
REFRESH-INTERVAL;VALUE=DURATION:PT1H
X-Robots-Tag:noindex
X-PUBLISHED-TTL:PT1H
BEGIN:VTIMEZONE
TZID:America/New_York
BEGIN:DAYLIGHT
TZOFFSETFROM:-0500
TZOFFSETTO:-0400
TZNAME:EDT
DTSTART:20240310T070000
END:DAYLIGHT
BEGIN:STANDARD
TZOFFSETFROM:-0400
TZOFFSETTO:-0500
TZNAME:EST
DTSTART:20241103T060000
END:STANDARD
BEGIN:DAYLIGHT
TZOFFSETFROM:-0500
TZOFFSETTO:-0400
TZNAME:EDT
DTSTART:20250309T070000
END:DAYLIGHT
BEGIN:STANDARD
TZOFFSETFROM:-0400
TZOFFSETTO:-0500
TZNAME:EST
DTSTART:20251102T060000
END:STANDARD
BEGIN:DAYLIGHT
TZOFFSETFROM:-0500
TZOFFSETTO:-0400
TZNAME:EDT
DTSTART:20260308T070000
END:DAYLIGHT
BEGIN:STANDARD
TZOFFSETFROM:-0400
TZOFFSETTO:-0500
TZNAME:EST
DTSTART:20261101T060000
END:STANDARD
END:VTIMEZONE
BEGIN:VEVENT
DTSTART;TZID=America/New_York:20251201T173000
DTEND;TZID=America/New_York:20251201T193000
DTSTAMP:20260423T120641
CREATED:20251113T005244Z
LAST-MODIFIED:20251113T005244Z
UID:11710-1764610200-1764617400@elkrun.com
SUMMARY:Family Friendly Winter Cake Decorating Class with Treats by Allyson
DESCRIPTION:For Tickets Click Here \n\nJoin us for a fun Winter Cake Decorating Class with Treats by Allyson – perfect for getting into the holiday spirit!\n\n\n\nWelcome to the Winter Cake Decorating Class with Treats by Allyson! Join us at Elk Run Vineyards for a fun-filled evening of creativity and delicious treats. Whether you’re a beginner or a baking pro\, this class is perfect for anyone looking to learn new decorating techniques and indulge in some sweet treats. \nDuring this hands-on class\, Allyson will guide you through the process of decorating winter-themed cakes while sharing her expert tips and tricks. Get ready to unleash your inner pastry chef and impress your friends and family with your newfound skills! \nDon’t miss out on this opportunity to learn from the best and enjoy a day of sweet indulgence. Grab your spot now and get ready to create some edible works of art! \n 
URL:https://elkrun.com/event/family-friendly-winter-cake-decorating-class-with-treats-by-allyson/
CATEGORIES:Class
END:VEVENT
END:VCALENDAR