BEGIN:VCALENDAR
VERSION:2.0
PRODID:-//Elk Run Vineyard and Winery - ECPv6.15.20//NONSGML v1.0//EN
CALSCALE:GREGORIAN
METHOD:PUBLISH
X-WR-CALNAME:Elk Run Vineyard and Winery
X-ORIGINAL-URL:https://elkrun.com
X-WR-CALDESC:Events for Elk Run Vineyard and Winery
REFRESH-INTERVAL;VALUE=DURATION:PT1H
X-Robots-Tag:noindex
X-PUBLISHED-TTL:PT1H
BEGIN:VTIMEZONE
TZID:America/New_York
BEGIN:DAYLIGHT
TZOFFSETFROM:-0500
TZOFFSETTO:-0400
TZNAME:EDT
DTSTART:20250309T070000
END:DAYLIGHT
BEGIN:STANDARD
TZOFFSETFROM:-0400
TZOFFSETTO:-0500
TZNAME:EST
DTSTART:20251102T060000
END:STANDARD
BEGIN:DAYLIGHT
TZOFFSETFROM:-0500
TZOFFSETTO:-0400
TZNAME:EDT
DTSTART:20260308T070000
END:DAYLIGHT
BEGIN:STANDARD
TZOFFSETFROM:-0400
TZOFFSETTO:-0500
TZNAME:EST
DTSTART:20261101T060000
END:STANDARD
BEGIN:DAYLIGHT
TZOFFSETFROM:-0500
TZOFFSETTO:-0400
TZNAME:EDT
DTSTART:20270314T070000
END:DAYLIGHT
BEGIN:STANDARD
TZOFFSETFROM:-0400
TZOFFSETTO:-0500
TZNAME:EST
DTSTART:20271107T060000
END:STANDARD
END:VTIMEZONE
BEGIN:VEVENT
DTSTART;TZID=America/New_York:20260117T160000
DTEND;TZID=America/New_York:20260117T170000
DTSTAMP:20260424T010424
CREATED:20260102T010657Z
LAST-MODIFIED:20260116T000000Z
UID:11783-1768665600-1768669200@elkrun.com
SUMMARY:🍷 Mystery Vintage Night 2 🍷
DESCRIPTION:🕓 4:00–5:00 PM \n💲 $15 per person \n*Reserve tickets through website. Payment will be done upon arrival with the tasting room attendant* \nStep into the winery and taste history—without the labels. \nWhat’s Included \nGuided tasting of 6 mystery vintage wines\n(Estimated production range: 1990–2004) \nA curated mix of red\, white\, and dessert wines\nGuessing cards to note:\nStyle & grape guesses\nApproximate age\nFavorite pours\nHosted\, educational\, and intentionally imperfect 🍷\nSome bottles may surprise you. Some may have aged… creatively. That’s part of the fun. \nBottles for purchase after event quantities limited
URL:https://elkrun.com/event/%f0%9f%8d%b7-mystery-vintage-night-2-%f0%9f%8d%b7/
LOCATION:Elk Run Vineyards
END:VEVENT
END:VCALENDAR