BEGIN:VCALENDAR
VERSION:2.0
PRODID:-//Elk Run Vineyard and Winery - ECPv6.15.20//NONSGML v1.0//EN
CALSCALE:GREGORIAN
METHOD:PUBLISH
X-ORIGINAL-URL:https://elkrun.com
X-WR-CALDESC:Events for Elk Run Vineyard and Winery
REFRESH-INTERVAL;VALUE=DURATION:PT1H
X-Robots-Tag:noindex
X-PUBLISHED-TTL:PT1H
BEGIN:VTIMEZONE
TZID:America/New_York
BEGIN:DAYLIGHT
TZOFFSETFROM:-0500
TZOFFSETTO:-0400
TZNAME:EDT
DTSTART:20240310T070000
END:DAYLIGHT
BEGIN:STANDARD
TZOFFSETFROM:-0400
TZOFFSETTO:-0500
TZNAME:EST
DTSTART:20241103T060000
END:STANDARD
BEGIN:DAYLIGHT
TZOFFSETFROM:-0500
TZOFFSETTO:-0400
TZNAME:EDT
DTSTART:20250309T070000
END:DAYLIGHT
BEGIN:STANDARD
TZOFFSETFROM:-0400
TZOFFSETTO:-0500
TZNAME:EST
DTSTART:20251102T060000
END:STANDARD
BEGIN:DAYLIGHT
TZOFFSETFROM:-0500
TZOFFSETTO:-0400
TZNAME:EDT
DTSTART:20260308T070000
END:DAYLIGHT
BEGIN:STANDARD
TZOFFSETFROM:-0400
TZOFFSETTO:-0500
TZNAME:EST
DTSTART:20261101T060000
END:STANDARD
END:VTIMEZONE
BEGIN:VEVENT
DTSTART;TZID=America/New_York:20250322T140000
DTEND;TZID=America/New_York:20250322T160000
DTSTAMP:20260423T135321
CREATED:20250114T153425Z
LAST-MODIFIED:20250114T153425Z
UID:10941-1742652000-1742659200@elkrun.com
SUMMARY:Elk Run's Exclusive Barrel Tasting
DESCRIPTION:This is your chance to go behind the scenes and experience Elk Run’s winemaking process like never before. Discover the art and passion that goes into crafting their award-winning wines\, and be among the first to sample their upcoming releases. Whether you’re a seasoned oenophile or a curious newcomer\, this barrel tasting will elevate your appreciation for exceptional\, small-batch wines. \n  \nFor Tickets Click Here
URL:https://elkrun.com/event/elk-runs-exclusive-barrel-tasting/
CATEGORIES:Event
END:VEVENT
BEGIN:VEVENT
DTSTART;TZID=America/New_York:20250330T140000
DTEND;TZID=America/New_York:20250330T160000
DTSTAMP:20260423T135321
CREATED:20250114T153631Z
LAST-MODIFIED:20250123T143057Z
UID:10943-1743343200-1743350400@elkrun.com
SUMMARY:Elk Run's Library Tasting
DESCRIPTION:Unlock the true potential of wine by going back in time. This tasting will transport you through the decades\, revealing how time transforms even the most familiar of wines. Whether you’re a seasoned oenophile or just discovering your palate\, you’ll gain a newfound appreciation for the art of winemaking \nFor Tickets Click Here
URL:https://elkrun.com/event/elk-runs-library-tasting/
CATEGORIES:Event
END:VEVENT
END:VCALENDAR