BEGIN:VCALENDAR
VERSION:2.0
PRODID:-//Elk Run Vineyard and Winery - ECPv6.15.20//NONSGML v1.0//EN
CALSCALE:GREGORIAN
METHOD:PUBLISH
X-WR-CALNAME:Elk Run Vineyard and Winery
X-ORIGINAL-URL:https://elkrun.com
X-WR-CALDESC:Events for Elk Run Vineyard and Winery
REFRESH-INTERVAL;VALUE=DURATION:PT1H
X-Robots-Tag:noindex
X-PUBLISHED-TTL:PT1H
BEGIN:VTIMEZONE
TZID:America/New_York
BEGIN:DAYLIGHT
TZOFFSETFROM:-0500
TZOFFSETTO:-0400
TZNAME:EDT
DTSTART:20240310T070000
END:DAYLIGHT
BEGIN:STANDARD
TZOFFSETFROM:-0400
TZOFFSETTO:-0500
TZNAME:EST
DTSTART:20241103T060000
END:STANDARD
BEGIN:DAYLIGHT
TZOFFSETFROM:-0500
TZOFFSETTO:-0400
TZNAME:EDT
DTSTART:20250309T070000
END:DAYLIGHT
BEGIN:STANDARD
TZOFFSETFROM:-0400
TZOFFSETTO:-0500
TZNAME:EST
DTSTART:20251102T060000
END:STANDARD
BEGIN:DAYLIGHT
TZOFFSETFROM:-0500
TZOFFSETTO:-0400
TZNAME:EDT
DTSTART:20260308T070000
END:DAYLIGHT
BEGIN:STANDARD
TZOFFSETFROM:-0400
TZOFFSETTO:-0500
TZNAME:EST
DTSTART:20261101T060000
END:STANDARD
END:VTIMEZONE
BEGIN:VEVENT
DTSTART;TZID=America/New_York:20250504T180000
DTEND;TZID=America/New_York:20250504T210000
DTSTAMP:20260423T105424
CREATED:20250114T153222Z
LAST-MODIFIED:20250114T153222Z
UID:10939-1746381600-1746392400@elkrun.com
SUMMARY:May The 4th Be With You Wine Event
DESCRIPTION:Unleash your inner Jedi at this exclusive Star Wars-themed wine tasting! Dress up in your galactic best and let the force guide you to an unforgettable evening of fine wines and out-of-this-world fun. \nTo Sign up Click Here
URL:https://elkrun.com/event/may-the-4th-be-with-you-wine-event/
CATEGORIES:Event
END:VEVENT
BEGIN:VEVENT
DTSTART;TZID=America/New_York:20250510T180000
DTEND;TZID=America/New_York:20250510T210000
DTSTAMP:20260423T105424
CREATED:20250308T142710Z
LAST-MODIFIED:20250308T142710Z
UID:10990-1746900000-1746910800@elkrun.com
SUMMARY:Girls Night
DESCRIPTION:food by Lallo’s Pizza and Subs
URL:https://elkrun.com/event/girls-night/
CATEGORIES:Event
END:VEVENT
BEGIN:VEVENT
DTSTART;TZID=America/New_York:20250523T180000
DTEND;TZID=America/New_York:20250523T210000
DTSTAMP:20260423T105424
CREATED:20250308T143156Z
LAST-MODIFIED:20250308T143221Z
UID:10992-1748023200-1748034000@elkrun.com
SUMMARY:An Evening at Hogwarts
DESCRIPTION:Food Trucks\, Vendors\, DJ. Come dressed as your favorite witch or wizard. Adults only \nClick Here
URL:https://elkrun.com/event/10992/
CATEGORIES:Event
END:VEVENT
BEGIN:VEVENT
DTSTART;TZID=America/New_York:20250524T180000
DTEND;TZID=America/New_York:20250524T210000
DTSTAMP:20260423T105424
CREATED:20250308T143344Z
LAST-MODIFIED:20250308T143344Z
UID:10995-1748109600-1748120400@elkrun.com
SUMMARY:A Day At Hogwarts\, A Family Affair
DESCRIPTION:Bring your witches and wizard to Hogwarts so they can be sorted into their houses. Enjoy music and Harry Potter Themed vendors. All Ages. \nFor Tickets Click Here
URL:https://elkrun.com/event/a-day-at-hogwarts-a-family-affair-2/
CATEGORIES:Event
END:VEVENT
END:VCALENDAR