BEGIN:VCALENDAR
VERSION:2.0
PRODID:-//Elk Run Vineyard and Winery - ECPv6.15.20//NONSGML v1.0//EN
CALSCALE:GREGORIAN
METHOD:PUBLISH
X-WR-CALNAME:Elk Run Vineyard and Winery
X-ORIGINAL-URL:https://elkrun.com
X-WR-CALDESC:Events for Elk Run Vineyard and Winery
REFRESH-INTERVAL;VALUE=DURATION:PT1H
X-Robots-Tag:noindex
X-PUBLISHED-TTL:PT1H
BEGIN:VTIMEZONE
TZID:America/New_York
BEGIN:DAYLIGHT
TZOFFSETFROM:-0500
TZOFFSETTO:-0400
TZNAME:EDT
DTSTART:20240310T070000
END:DAYLIGHT
BEGIN:STANDARD
TZOFFSETFROM:-0400
TZOFFSETTO:-0500
TZNAME:EST
DTSTART:20241103T060000
END:STANDARD
BEGIN:DAYLIGHT
TZOFFSETFROM:-0500
TZOFFSETTO:-0400
TZNAME:EDT
DTSTART:20250309T070000
END:DAYLIGHT
BEGIN:STANDARD
TZOFFSETFROM:-0400
TZOFFSETTO:-0500
TZNAME:EST
DTSTART:20251102T060000
END:STANDARD
BEGIN:DAYLIGHT
TZOFFSETFROM:-0500
TZOFFSETTO:-0400
TZNAME:EDT
DTSTART:20260308T070000
END:DAYLIGHT
BEGIN:STANDARD
TZOFFSETFROM:-0400
TZOFFSETTO:-0500
TZNAME:EST
DTSTART:20261101T060000
END:STANDARD
END:VTIMEZONE
BEGIN:VEVENT
DTSTART;TZID=America/New_York:20250719T180000
DTEND;TZID=America/New_York:20250719T210000
DTSTAMP:20260420T154720
CREATED:20250604T125159Z
LAST-MODIFIED:20250604T125159Z
UID:11149-1752948000-1752958800@elkrun.com
SUMMARY:Disney Night at Elk Run
DESCRIPTION:Calling all kids: young and old! Come dressed as your favorite Disney character and dance the night away to all your favorite Disney songs. \nFor Tickets Click Here
URL:https://elkrun.com/event/disney-night-at-elk-run/
CATEGORIES:Event
END:VEVENT
END:VCALENDAR