BEGIN:VCALENDAR
VERSION:2.0
PRODID:-//Elk Run Vineyard and Winery - ECPv6.15.20//NONSGML v1.0//EN
CALSCALE:GREGORIAN
METHOD:PUBLISH
X-ORIGINAL-URL:https://elkrun.com
X-WR-CALDESC:Events for Elk Run Vineyard and Winery
REFRESH-INTERVAL;VALUE=DURATION:PT1H
X-Robots-Tag:noindex
X-PUBLISHED-TTL:PT1H
BEGIN:VTIMEZONE
TZID:America/New_York
BEGIN:DAYLIGHT
TZOFFSETFROM:-0500
TZOFFSETTO:-0400
TZNAME:EDT
DTSTART:20240310T070000
END:DAYLIGHT
BEGIN:STANDARD
TZOFFSETFROM:-0400
TZOFFSETTO:-0500
TZNAME:EST
DTSTART:20241103T060000
END:STANDARD
BEGIN:DAYLIGHT
TZOFFSETFROM:-0500
TZOFFSETTO:-0400
TZNAME:EDT
DTSTART:20250309T070000
END:DAYLIGHT
BEGIN:STANDARD
TZOFFSETFROM:-0400
TZOFFSETTO:-0500
TZNAME:EST
DTSTART:20251102T060000
END:STANDARD
BEGIN:DAYLIGHT
TZOFFSETFROM:-0500
TZOFFSETTO:-0400
TZNAME:EDT
DTSTART:20260308T070000
END:DAYLIGHT
BEGIN:STANDARD
TZOFFSETFROM:-0400
TZOFFSETTO:-0500
TZNAME:EST
DTSTART:20261101T060000
END:STANDARD
END:VTIMEZONE
BEGIN:VEVENT
DTSTART;TZID=America/New_York:20251214T130000
DTEND;TZID=America/New_York:20251214T160000
DTSTAMP:20260420T063430
CREATED:20251113T005403Z
LAST-MODIFIED:20251113T005502Z
UID:11712-1765717200-1765728000@elkrun.com
SUMMARY:Dickens Open House
DESCRIPTION:For Tickets Click Here \n\n\n\n\nStep into a Victorian Christmas at Elk Run’s Dickens Open House! Wine\, hors d’oeuvres\, live readings & historic charm. Dec 14\, 12–4 PM. $45.\n\n\n\nWhat if you could step into Christmas the way it was celebrated centuries ago — without ever leaving Mount Airy? \nImagine spending a December afternoon inside a warm 1756 parlor\, surrounded by evergreen boughs\, candlelight\, and the timeless words of Dickens. Wouldn’t a glass of mulled wine in hand make the moment even more magical? \nAt Elk Run’s Dickens Open House — now celebrating 45 years of tradition — each ticket invites you to experience: \nWine by the glass \nHors d’oeuvres prepared by Set the Table \nLive dramatic readings of Dickens and seasonal classics \nActors in period costumes\, bringing Victorian Christmas to life \nA historic Maryland home dressed in 1800s décor \nA strolling troubadour filling the winery grounds with festive song \nDoesn’t that sound like a perfect way to slow down during the busy season? \nWith performances between 1–4 PM\, seating in the parlor is limited — would you prefer to reserve your spot now rather than risk missing out? \nBring the family. Make memories. Rediscover Christmas as it once was. \n🎟️ Buy your tickets now — $45 per adult\, children free \nWinery tastings available for purchase.
URL:https://elkrun.com/event/dickens-open-house/
CATEGORIES:Event
END:VEVENT
END:VCALENDAR