BEGIN:VCALENDAR
VERSION:2.0
PRODID:-//Elk Run Vineyard and Winery - ECPv6.15.20//NONSGML v1.0//EN
CALSCALE:GREGORIAN
METHOD:PUBLISH
X-ORIGINAL-URL:https://elkrun.com
X-WR-CALDESC:Events for Elk Run Vineyard and Winery
REFRESH-INTERVAL;VALUE=DURATION:PT1H
X-Robots-Tag:noindex
X-PUBLISHED-TTL:PT1H
BEGIN:VTIMEZONE
TZID:America/New_York
BEGIN:DAYLIGHT
TZOFFSETFROM:-0500
TZOFFSETTO:-0400
TZNAME:EDT
DTSTART:20230312T070000
END:DAYLIGHT
BEGIN:STANDARD
TZOFFSETFROM:-0400
TZOFFSETTO:-0500
TZNAME:EST
DTSTART:20231105T060000
END:STANDARD
BEGIN:DAYLIGHT
TZOFFSETFROM:-0500
TZOFFSETTO:-0400
TZNAME:EDT
DTSTART:20240310T070000
END:DAYLIGHT
BEGIN:STANDARD
TZOFFSETFROM:-0400
TZOFFSETTO:-0500
TZNAME:EST
DTSTART:20241103T060000
END:STANDARD
BEGIN:DAYLIGHT
TZOFFSETFROM:-0500
TZOFFSETTO:-0400
TZNAME:EDT
DTSTART:20250309T070000
END:DAYLIGHT
BEGIN:STANDARD
TZOFFSETFROM:-0400
TZOFFSETTO:-0500
TZNAME:EST
DTSTART:20251102T060000
END:STANDARD
BEGIN:DAYLIGHT
TZOFFSETFROM:-0500
TZOFFSETTO:-0400
TZNAME:EDT
DTSTART:20260308T070000
END:DAYLIGHT
BEGIN:STANDARD
TZOFFSETFROM:-0400
TZOFFSETTO:-0500
TZNAME:EST
DTSTART:20261101T060000
END:STANDARD
END:VTIMEZONE
BEGIN:VEVENT
DTSTART;TZID=America/New_York:20250711T180000
DTEND;TZID=America/New_York:20250711T210000
DTSTAMP:20260421T072013
CREATED:20250621T134950Z
LAST-MODIFIED:20250621T134950Z
UID:11196-1752256800-1752267600@elkrun.com
SUMMARY:Wine Down Friday's Presents Greg Pfeiffer
DESCRIPTION:http://www.merrylandmusic.com
URL:https://elkrun.com/event/wine-down-fridays-presents-greg-pfeiffer/
CATEGORIES:Music
END:VEVENT
BEGIN:VEVENT
DTSTART;TZID=America/New_York:20250704T180000
DTEND;TZID=America/New_York:20250704T210000
DTSTAMP:20260421T072013
CREATED:20250621T141208Z
LAST-MODIFIED:20250702T183509Z
UID:11199-1751652000-1751662800@elkrun.com
SUMMARY:Elk Run's July 4th Wine Spritzer and Fireworks show
DESCRIPTION:Join us at Elk Run as we commemorate Independence Day with a festive celebration that promises to be memorable. Enjoy live musical performances by the talented duo Barrett and Bayer\, who will set the perfect atmosphere for the evening. Guests can indulge in a selection of three delightful wine spritzers\, available with both wine and non-wine options\, ensuring that everyone can partake in the refreshing offerings. As the night unfolds\, we invite you to gather with friends and family to witness a spectacular display of small fireworks\, illuminating the sky and adding a touch of magic to the festivities. This event is a wonderful opportunity to celebrate our nation’s freedom while enjoying great music\, delicious drinks\, and a vibrant community spirit. \nFamily Event- All Ages are welcome \nSnow cone truck will be there. \nFor Tickets Click Here \n\n\n\n\n\n\n\n\nElk Run Mocktails\nLeo’s Lemonade\n● 3 oz fresh lemonade\n● 2 oz apple juice\n● 2 oz ginger ale\n● Ice\n● Garnish: Lemon wheel + mint sprig\nMethod: Build over ice in glass\, stir gently.\n\n\nMischief Molly\n● 4 oz coconut water\n● Healthy pinch of sea salt\n● 2 oz pineapple juice\n● Juice of 1 whole lime\n● Ice\n● Garnish: cucumber slice (ribboned if we can)\nMethod: Shake with ice. Strain into glass over fresh ice. Garnish with cucumber.\n\n\nThe Moody Lucy\n● 4 oz lemonade\n● 3 oz iced tea\n● Ice\n● Garnish: Lemon slice or a few blackberries\nMethod: Build over ice in glass\, stir gently.
URL:https://elkrun.com/event/elk-runs-july-4th-wine-spritzer-and-fireworks-show/
CATEGORIES:Music
END:VEVENT
BEGIN:VEVENT
DTSTART;TZID=America/New_York:20250615T120000
DTEND;TZID=America/New_York:20250615T180000
DTSTAMP:20260421T072013
CREATED:20240306T144115Z
LAST-MODIFIED:20250611T173402Z
UID:10269-1749988800-1750010400@elkrun.com
SUMMARY:Elk Run Jazz Festival
DESCRIPTION:Join us at Elk Run Vineyards for our Fathers Day Jazz Festival!  \nFor Tickets Click Here
URL:https://elkrun.com/event/elk-run-jazz-festival/
CATEGORIES:Music
END:VEVENT
BEGIN:VEVENT
DTSTART;TZID=America/New_York:20241215T130000
DTEND;TZID=America/New_York:20241215T170000
DTSTAMP:20260421T072013
CREATED:20241119T195235Z
LAST-MODIFIED:20241119T195342Z
UID:10883-1734267600-1734282000@elkrun.com
SUMMARY:Christmas at the Vines
DESCRIPTION:Scott Barrett and Josh Bayer will be to serenading us with their new Christmas album full of Christmas spirit. \nCome dressed for the holidays.
URL:https://elkrun.com/event/christmas-at-the-vineyard/
CATEGORIES:Music
END:VEVENT
BEGIN:VEVENT
DTSTART;TZID=America/New_York:20241103T140000
DTEND;TZID=America/New_York:20241103T170000
DTSTAMP:20260421T072013
CREATED:20241031T114823Z
LAST-MODIFIED:20241031T114823Z
UID:10862-1730642400-1730653200@elkrun.com
SUMMARY:Sipping Sunday's Presents: John DuRant 
DESCRIPTION:http://www.troubdourjohn.com
URL:https://elkrun.com/event/sipping-sundays-presents-john-durant-7/
CATEGORIES:Music
END:VEVENT
BEGIN:VEVENT
DTSTART;TZID=America/New_York:20241102T140000
DTEND;TZID=America/New_York:20241102T170000
DTSTAMP:20260421T072013
CREATED:20241031T114746Z
LAST-MODIFIED:20241031T114746Z
UID:10860-1730556000-1730566800@elkrun.com
SUMMARY:Sipping Saturday's Presents: Gary Leigh Brown
DESCRIPTION:http://www.garyandthegroove.com
URL:https://elkrun.com/event/sipping-saturdays-presents-gary-leigh-brown-2/
CATEGORIES:Music
END:VEVENT
BEGIN:VEVENT
DTSTART;TZID=America/New_York:20240928T190000
DTEND;TZID=America/New_York:20240928T220000
DTSTAMP:20260421T072013
CREATED:20240306T145212Z
LAST-MODIFIED:20240306T150725Z
UID:10287-1727550000-1727560800@elkrun.com
SUMMARY:An Evening at Hogwarts
DESCRIPTION:We only have 2 smaller events this year.\nFriday 27th and Saturday the 28th.\nFood Trucks\, Vendors\, DJ. Come dressed as your favorite witch or wizard and dance the night away in the great hall! ALL AGES WELCOME $25\nFor Tickets Click Here
URL:https://elkrun.com/event/an-evening-at-hogwarts-2/
CATEGORIES:Music
END:VEVENT
BEGIN:VEVENT
DTSTART;TZID=America/New_York:20240927T190000
DTEND;TZID=America/New_York:20240927T220000
DTSTAMP:20260421T072013
CREATED:20240306T145123Z
LAST-MODIFIED:20240306T150733Z
UID:10285-1727463600-1727474400@elkrun.com
SUMMARY:An Evening at Hogwarts
DESCRIPTION:We only have 2 smaller events this year.\nFriday 27th and Saturday the 28th.\nFood Trucks\, Vendors\, DJ. Come dressed as your favorite witch or wizard and dance the night away in the great hall! ALL AGES WELCOME $25\nFor Tickets Click Here
URL:https://elkrun.com/event/an-evening-at-hogwarts/
CATEGORIES:Music
END:VEVENT
BEGIN:VEVENT
DTSTART;TZID=America/New_York:20240817T190000
DTEND;TZID=America/New_York:20240817T220000
DTSTAMP:20260421T072013
CREATED:20240306T144815Z
LAST-MODIFIED:20240306T151008Z
UID:10279-1723921200-1723932000@elkrun.com
SUMMARY:Taylor Swift Night
DESCRIPTION:We are only offering 2 nights this year! Friday the 16th and Saturday the 17th!\nCome dressed in your favorite era. Food Trucks\, vendors\, DJ\, Dancing! $25. ALL AGES WELCOME!\nFor Tickets Click Here
URL:https://elkrun.com/event/taylor-swift-night-4/
CATEGORIES:Music
END:VEVENT
BEGIN:VEVENT
DTSTART;TZID=America/New_York:20240816T190000
DTEND;TZID=America/New_York:20240816T220000
DTSTAMP:20260421T072013
CREATED:20240306T144654Z
LAST-MODIFIED:20240306T151041Z
UID:10277-1723834800-1723845600@elkrun.com
SUMMARY:Taylor Swift Night
DESCRIPTION:We are only offering 2 nights this year! Friday the 16th and Saturday the 17th!\nCome dressed in your favorite era. Food Trucks\, vendors\, DJ\, Dancing! $25. ALL AGES WELCOME!\nFor Tickets Click Here
URL:https://elkrun.com/event/taylor-swift-night-3/
CATEGORIES:Music
END:VEVENT
BEGIN:VEVENT
DTSTART;TZID=America/New_York:20240727T140000
DTEND;TZID=America/New_York:20240727T170000
DTSTAMP:20260421T072013
CREATED:20240619T161517Z
LAST-MODIFIED:20240709T191720Z
UID:10557-1722088800-1722099600@elkrun.com
SUMMARY:Sipping Saturday's Presents: Acoustic Chicks
DESCRIPTION:http://www.facebook.com/acousticchicks
URL:https://elkrun.com/event/sipping-saturdays-presents-tbd/
CATEGORIES:Music
END:VEVENT
BEGIN:VEVENT
DTSTART;TZID=America/New_York:20240719T190000
DTEND;TZID=America/New_York:20240719T220000
DTSTAMP:20260421T072013
CREATED:20240306T144619Z
LAST-MODIFIED:20240614T175245Z
UID:10275-1721415600-1721426400@elkrun.com
SUMMARY:Disney Night
DESCRIPTION:Calling all kids: young and old! Come dressed as your favorite Disney character and dance the night away to all your favorite Disney songs. Food Trucks\, DJ and vendors! ALL Ages Welcome! $25 \nFor Tickets Click Here
URL:https://elkrun.com/event/disney-night/
CATEGORIES:Music
END:VEVENT
BEGIN:VEVENT
DTSTART;TZID=America/New_York:20240630T140000
DTEND;TZID=America/New_York:20240630T170000
DTSTAMP:20260421T072013
CREATED:20240510T143103Z
LAST-MODIFIED:20240510T143103Z
UID:10492-1719756000-1719766800@elkrun.com
SUMMARY:Sipping Sunday's Presents: Craig Cummings
DESCRIPTION:http://www.craigcummingsmusic.com
URL:https://elkrun.com/event/sipping-sundays-presents-craig-cummings/
CATEGORIES:Music
END:VEVENT
BEGIN:VEVENT
DTSTART;TZID=America/New_York:20240629T140000
DTEND;TZID=America/New_York:20240629T170000
DTSTAMP:20260421T072013
CREATED:20240510T142824Z
LAST-MODIFIED:20240510T142824Z
UID:10485-1719669600-1719680400@elkrun.com
SUMMARY:Sipping Satuday's Presents: John Schneider
DESCRIPTION:http://www.schneidermelody.com
URL:https://elkrun.com/event/sipping-satudays-presents-john-schneider/
CATEGORIES:Music
END:VEVENT
BEGIN:VEVENT
DTSTART;TZID=America/New_York:20240623T140000
DTEND;TZID=America/New_York:20240623T170000
DTSTAMP:20260421T072013
CREATED:20240510T143033Z
LAST-MODIFIED:20240510T143033Z
UID:10490-1719151200-1719162000@elkrun.com
SUMMARY:Sipping Sunday's Presents: Casey Cleveland
DESCRIPTION:http://www.reverbnation.com/caseycleveland
URL:https://elkrun.com/event/sipping-sundays-presents-casey-cleveland-2/
CATEGORIES:Music
END:VEVENT
BEGIN:VEVENT
DTSTART;TZID=America/New_York:20240622T140000
DTEND;TZID=America/New_York:20240622T170000
DTSTAMP:20260421T072013
CREATED:20240510T142747Z
LAST-MODIFIED:20240510T142747Z
UID:10482-1719064800-1719075600@elkrun.com
SUMMARY:Sipping Satuday's Presents: Sam Biskin
DESCRIPTION:http://www.facebook.com/sambiskinguitarteacher
URL:https://elkrun.com/event/sipping-satudays-presents-sam-biskin/
CATEGORIES:Music
END:VEVENT
BEGIN:VEVENT
DTSTART;TZID=America/New_York:20240621T180000
DTEND;TZID=America/New_York:20240621T210000
DTSTAMP:20260421T072013
CREATED:20240510T142511Z
LAST-MODIFIED:20240510T142511Z
UID:10476-1718992800-1719003600@elkrun.com
SUMMARY:Wine Down Friday's Presents: Empty Ecstasy
DESCRIPTION:http://www.facebook.com/MTXTCduo
URL:https://elkrun.com/event/wine-down-fridays-presents-empty-ecstasy-2/
CATEGORIES:Music
END:VEVENT
BEGIN:VEVENT
DTSTART;TZID=America/New_York:20240615T190000
DTEND;TZID=America/New_York:20240615T220000
DTSTAMP:20260421T072013
CREATED:20240306T143320Z
LAST-MODIFIED:20240306T151630Z
UID:10261-1718478000-1718488800@elkrun.com
SUMMARY:MJ/Prince Music Night
DESCRIPTION:Come dressed in your MJ or Prince attire. Food Trucks\,vendors\, DJ\, Dancing! $25. ALL AGES WELCOME! \nFor Tickets Click Here
URL:https://elkrun.com/event/mj-prince-music-night/
CATEGORIES:Music
END:VEVENT
BEGIN:VEVENT
DTSTART;TZID=America/New_York:20240614T180000
DTEND;TZID=America/New_York:20240614T210000
DTSTAMP:20260421T072013
CREATED:20240510T142431Z
LAST-MODIFIED:20240510T142431Z
UID:10474-1718388000-1718398800@elkrun.com
SUMMARY:Wine Down Friday's Presents: Poor Ellen Smith Band
DESCRIPTION:http://www.facebook.com/poor-ellen-smith
URL:https://elkrun.com/event/wine-down-fridays-presents-poor-ellen-smith-band/
CATEGORIES:Music
END:VEVENT
BEGIN:VEVENT
DTSTART;TZID=America/New_York:20240609T140000
DTEND;TZID=America/New_York:20240609T170000
DTSTAMP:20260421T072013
CREATED:20240510T142959Z
LAST-MODIFIED:20240510T142959Z
UID:10487-1717941600-1717952400@elkrun.com
SUMMARY:Sipping Sunday's Presents:Doug Alan Wilcox
DESCRIPTION:http://www.dawilcox.com
URL:https://elkrun.com/event/sipping-sundays-presentsdoug-alan-wilcox/
CATEGORIES:Music
END:VEVENT
BEGIN:VEVENT
DTSTART;TZID=America/New_York:20240608T140000
DTEND;TZID=America/New_York:20240608T170000
DTSTAMP:20260421T072013
CREATED:20240510T142703Z
LAST-MODIFIED:20240510T142703Z
UID:10480-1717855200-1717866000@elkrun.com
SUMMARY:Sipping Satuday's Presents: Johnny Cole
DESCRIPTION:http://www.johnnycoleacoustic.com
URL:https://elkrun.com/event/sipping-satudays-presents-johnny-cole/
CATEGORIES:Music
END:VEVENT
BEGIN:VEVENT
DTSTART;TZID=America/New_York:20240607T180000
DTEND;TZID=America/New_York:20240607T210000
DTSTAMP:20260421T072013
CREATED:20240508T182945Z
LAST-MODIFIED:20240508T182945Z
UID:10468-1717783200-1717794000@elkrun.com
SUMMARY:Wine Down Friday's Presents: The McDuffees
DESCRIPTION:http://www.themcduffees.com
URL:https://elkrun.com/event/wine-down-fridays-presents-the-mcduffees-6/
CATEGORIES:Music
END:VEVENT
BEGIN:VEVENT
DTSTART;TZID=America/New_York:20240602T140000
DTEND;TZID=America/New_York:20240602T170000
DTSTAMP:20260421T072013
CREATED:20240508T183037Z
LAST-MODIFIED:20240508T183037Z
UID:10470-1717336800-1717347600@elkrun.com
SUMMARY:Sipping Sunday's Presents: Sammie J
DESCRIPTION:http://www.facebook.com/sammiejmusic
URL:https://elkrun.com/event/sipping-sundays-presents-sammie-j/
CATEGORIES:Music
END:VEVENT
BEGIN:VEVENT
DTSTART;TZID=America/New_York:20240601T140000
DTEND;TZID=America/New_York:20240601T170000
DTSTAMP:20260421T072013
CREATED:20240508T182859Z
LAST-MODIFIED:20240508T182859Z
UID:10466-1717250400-1717261200@elkrun.com
SUMMARY:Sipping Saturday's Presents: Steven Gellman
DESCRIPTION:http://www.hiddenpoet.com
URL:https://elkrun.com/event/sipping-saturdays-presents-steven-gellman-2/
CATEGORIES:Music
END:VEVENT
BEGIN:VEVENT
DTSTART;TZID=America/New_York:20240531T180000
DTEND;TZID=America/New_York:20240531T210000
DTSTAMP:20260421T072013
CREATED:20240306T155923Z
LAST-MODIFIED:20240306T155923Z
UID:10359-1717178400-1717189200@elkrun.com
SUMMARY:Wine Down Friday's Presents: The Laymen
DESCRIPTION:http://www.musicofeden.com
URL:https://elkrun.com/event/wine-down-fridays-presents-the-laymen-2/
CATEGORIES:Music
END:VEVENT
BEGIN:VEVENT
DTSTART;TZID=America/New_York:20240526T140000
DTEND;TZID=America/New_York:20240526T170000
DTSTAMP:20260421T072013
CREATED:20240306T160652Z
LAST-MODIFIED:20240306T160746Z
UID:10376-1716732000-1716742800@elkrun.com
SUMMARY:Sipping Sunday's Presents: John DuRant
DESCRIPTION:www.troubadourjohn.com
URL:https://elkrun.com/event/sipping-sundays-presents-john-durant-2/
CATEGORIES:Music
END:VEVENT
BEGIN:VEVENT
DTSTART;TZID=America/New_York:20240525T140000
DTEND;TZID=America/New_York:20240525T170000
DTSTAMP:20260421T072013
CREATED:20240306T160348Z
LAST-MODIFIED:20240418T133258Z
UID:10368-1716645600-1716656400@elkrun.com
SUMMARY:Sipping Saturday's Presents: Josh Bayer
DESCRIPTION:https://joshuabayer.com/blog/
URL:https://elkrun.com/event/sipping-saturdays-presents-patrick-smith/
CATEGORIES:Music
END:VEVENT
BEGIN:VEVENT
DTSTART;TZID=America/New_York:20240524T180000
DTEND;TZID=America/New_York:20240524T210000
DTSTAMP:20260421T072013
CREATED:20240306T155839Z
LAST-MODIFIED:20240306T155839Z
UID:10357-1716573600-1716584400@elkrun.com
SUMMARY:Wine Down Friday's Presents: Safe Harbor
DESCRIPTION:http://www.facebook.com/safeharborduo
URL:https://elkrun.com/event/wine-down-fridays-presents-safe-harbor/
CATEGORIES:Music
END:VEVENT
BEGIN:VEVENT
DTSTART;TZID=America/New_York:20240519T140000
DTEND;TZID=America/New_York:20240519T170000
DTSTAMP:20260421T072013
CREATED:20240306T160611Z
LAST-MODIFIED:20240306T160611Z
UID:10374-1716127200-1716138000@elkrun.com
SUMMARY:Sipping Sunday's Presents: Gary Leigh Brown
DESCRIPTION:http://www.garyandthegroove.com
URL:https://elkrun.com/event/sipping-sundays-presents-gary-leigh-brown-2/
CATEGORIES:Music
END:VEVENT
BEGIN:VEVENT
DTSTART;TZID=America/New_York:20240518T140000
DTEND;TZID=America/New_York:20240518T170000
DTSTAMP:20260421T072013
CREATED:20240306T160305Z
LAST-MODIFIED:20240306T160305Z
UID:10366-1716040800-1716051600@elkrun.com
SUMMARY:Sipping Saturday's Presents: Tony Denikos
DESCRIPTION:http://www.tonydenikos.com
URL:https://elkrun.com/event/sipping-saturdays-presents-tony-denikos/
CATEGORIES:Music
END:VEVENT
END:VCALENDAR