BEGIN:VCALENDAR
VERSION:2.0
PRODID:-//Elk Run Vineyard and Winery - ECPv6.15.20//NONSGML v1.0//EN
CALSCALE:GREGORIAN
METHOD:PUBLISH
X-ORIGINAL-URL:https://elkrun.com
X-WR-CALDESC:Events for Elk Run Vineyard and Winery
REFRESH-INTERVAL;VALUE=DURATION:PT1H
X-Robots-Tag:noindex
X-PUBLISHED-TTL:PT1H
BEGIN:VTIMEZONE
TZID:America/New_York
BEGIN:DAYLIGHT
TZOFFSETFROM:-0500
TZOFFSETTO:-0400
TZNAME:EDT
DTSTART:20250309T070000
END:DAYLIGHT
BEGIN:STANDARD
TZOFFSETFROM:-0400
TZOFFSETTO:-0500
TZNAME:EST
DTSTART:20251102T060000
END:STANDARD
BEGIN:DAYLIGHT
TZOFFSETFROM:-0500
TZOFFSETTO:-0400
TZNAME:EDT
DTSTART:20260308T070000
END:DAYLIGHT
BEGIN:STANDARD
TZOFFSETFROM:-0400
TZOFFSETTO:-0500
TZNAME:EST
DTSTART:20261101T060000
END:STANDARD
BEGIN:DAYLIGHT
TZOFFSETFROM:-0500
TZOFFSETTO:-0400
TZNAME:EDT
DTSTART:20270314T070000
END:DAYLIGHT
BEGIN:STANDARD
TZOFFSETFROM:-0400
TZOFFSETTO:-0500
TZNAME:EST
DTSTART:20271107T060000
END:STANDARD
END:VTIMEZONE
BEGIN:VEVENT
DTSTART;TZID=America/New_York:20260808T190000
DTEND;TZID=America/New_York:20260808T220000
DTSTAMP:20260419T085105
CREATED:20260410T164624Z
LAST-MODIFIED:20260410T164624Z
UID:12215-1786215600-1786226400@elkrun.com
SUMMARY:Diva Night: The Ultimate Sing-a-long
DESCRIPTION:Diva Night: The Ultimate Sing-Along This night is for the voices that were never meant to stay \n\n\n\n\n💄🎤 Diva Night: The Ultimate Sing-Along 🎤💄 \nThis night is for the voices that were never meant to stay quiet. \nJoin us for Diva Night\, a full-on sing-along celebration of the biggest\, boldest diva hits of all time. From power ballads to dance-floor anthems\, this is your moment to sing it loud\, sing it proud\, and live your main-character fantasy. \n✨ Your ticket includes your own microphone because divas don’t share mics. \n👠 Dress like your favorite diva big hair\, bold looks\, full glam encouraged. \n💃 Dance\, sing\, and belt every chorus \n🍷 Wine flowing all night \n🎶 Every song you know by heart \nNo auditions. No judgment. Just iconic looks\, powerful voices\, and a room full of people singing like nobody’s watching. \nWarm up those vocal cords. This one’s going to be loud in the best way. 🎤✨ \n\nTo get tickets Click Here!
URL:https://elkrun.com/event/diva-night-the-ultimate-sing-a-long/
CATEGORIES:Event
END:VEVENT
BEGIN:VEVENT
DTSTART;TZID=America/New_York:20260905T190000
DTEND;TZID=America/New_York:20260905T220000
DTSTAMP:20260419T085105
CREATED:20260410T164915Z
LAST-MODIFIED:20260410T164915Z
UID:12218-1788634800-1788645600@elkrun.com
SUMMARY:Harry Potter Night
DESCRIPTION:Grab your robes and dust off your wand. It’s time to step into the wizarding world for a night of magic\, music\, and wine. \n\n\nJoin us for Harry Potter Night\, where guests are invited to dress as their favorite character\, dance to a spellbinding playlist\, sip wine\, and celebrate all things Harry Potter. \nWhether you’re Gryffindor bold\, Slytherin sly\, Ravenclaw clever\, or Hufflepuff loyal\, this night is all about fun\, fandom\, and letting your inner witch or wizard out. \n✨ Costumes encouraged \n🍷 Wine flowing \n💃 Dancing welcome \n✨ Magic in the air \nNo need for a Hogwarts letter\, just show up ready to dance\, drink\, and enjoy a night of wizarding nostalgia with fellow fans. \nMischief managed… until the dance floor opens. \n\nTo get tickets Click Here!
URL:https://elkrun.com/event/harry-potter-night/
CATEGORIES:Event
END:VEVENT
END:VCALENDAR