BEGIN:VCALENDAR
VERSION:2.0
PRODID:-//Elk Run Vineyard and Winery - ECPv6.15.20//NONSGML v1.0//EN
CALSCALE:GREGORIAN
METHOD:PUBLISH
X-WR-CALNAME:Elk Run Vineyard and Winery
X-ORIGINAL-URL:https://elkrun.com
X-WR-CALDESC:Events for Elk Run Vineyard and Winery
REFRESH-INTERVAL;VALUE=DURATION:PT1H
X-Robots-Tag:noindex
X-PUBLISHED-TTL:PT1H
BEGIN:VTIMEZONE
TZID:America/New_York
BEGIN:DAYLIGHT
TZOFFSETFROM:-0500
TZOFFSETTO:-0400
TZNAME:EDT
DTSTART:20230312T070000
END:DAYLIGHT
BEGIN:STANDARD
TZOFFSETFROM:-0400
TZOFFSETTO:-0500
TZNAME:EST
DTSTART:20231105T060000
END:STANDARD
BEGIN:DAYLIGHT
TZOFFSETFROM:-0500
TZOFFSETTO:-0400
TZNAME:EDT
DTSTART:20240310T070000
END:DAYLIGHT
BEGIN:STANDARD
TZOFFSETFROM:-0400
TZOFFSETTO:-0500
TZNAME:EST
DTSTART:20241103T060000
END:STANDARD
BEGIN:DAYLIGHT
TZOFFSETFROM:-0500
TZOFFSETTO:-0400
TZNAME:EDT
DTSTART:20250309T070000
END:DAYLIGHT
BEGIN:STANDARD
TZOFFSETFROM:-0400
TZOFFSETTO:-0500
TZNAME:EST
DTSTART:20251102T060000
END:STANDARD
END:VTIMEZONE
BEGIN:VEVENT
DTSTART;TZID=America/New_York:20240601T140000
DTEND;TZID=America/New_York:20240601T170000
DTSTAMP:20260420T080533
CREATED:20240508T182859Z
LAST-MODIFIED:20240508T182859Z
UID:10466-1717250400-1717261200@elkrun.com
SUMMARY:Sipping Saturday's Presents: Steven Gellman
DESCRIPTION:http://www.hiddenpoet.com
URL:https://elkrun.com/event/sipping-saturdays-presents-steven-gellman-2/
CATEGORIES:Music
END:VEVENT
BEGIN:VEVENT
DTSTART;TZID=America/New_York:20240601T203000
DTEND;TZID=America/New_York:20240601T223000
DTSTAMP:20260420T080533
CREATED:20240306T143234Z
LAST-MODIFIED:20240601T225026Z
UID:10259-1717273800-1717281000@elkrun.com
SUMMARY:Movie Night: The Mummy
DESCRIPTION:
URL:https://elkrun.com/event/movie-night-the-mummy/
CATEGORIES:Movie
END:VEVENT
BEGIN:VEVENT
DTSTART;TZID=America/New_York:20240602T140000
DTEND;TZID=America/New_York:20240602T170000
DTSTAMP:20260420T080533
CREATED:20240508T183037Z
LAST-MODIFIED:20240508T183037Z
UID:10470-1717336800-1717347600@elkrun.com
SUMMARY:Sipping Sunday's Presents: Sammie J
DESCRIPTION:http://www.facebook.com/sammiejmusic
URL:https://elkrun.com/event/sipping-sundays-presents-sammie-j/
CATEGORIES:Music
END:VEVENT
BEGIN:VEVENT
DTSTART;TZID=America/New_York:20240607T180000
DTEND;TZID=America/New_York:20240607T210000
DTSTAMP:20260420T080533
CREATED:20240508T182945Z
LAST-MODIFIED:20240508T182945Z
UID:10468-1717783200-1717794000@elkrun.com
SUMMARY:Wine Down Friday's Presents: The McDuffees
DESCRIPTION:http://www.themcduffees.com
URL:https://elkrun.com/event/wine-down-fridays-presents-the-mcduffees-6/
CATEGORIES:Music
END:VEVENT
BEGIN:VEVENT
DTSTART;TZID=America/New_York:20240608T140000
DTEND;TZID=America/New_York:20240608T170000
DTSTAMP:20260420T080533
CREATED:20240510T142703Z
LAST-MODIFIED:20240510T142703Z
UID:10480-1717855200-1717866000@elkrun.com
SUMMARY:Sipping Satuday's Presents: Johnny Cole
DESCRIPTION:http://www.johnnycoleacoustic.com
URL:https://elkrun.com/event/sipping-satudays-presents-johnny-cole/
CATEGORIES:Music
END:VEVENT
BEGIN:VEVENT
DTSTART;TZID=America/New_York:20240609T140000
DTEND;TZID=America/New_York:20240609T170000
DTSTAMP:20260420T080533
CREATED:20240510T142959Z
LAST-MODIFIED:20240510T142959Z
UID:10487-1717941600-1717952400@elkrun.com
SUMMARY:Sipping Sunday's Presents:Doug Alan Wilcox
DESCRIPTION:http://www.dawilcox.com
URL:https://elkrun.com/event/sipping-sundays-presentsdoug-alan-wilcox/
CATEGORIES:Music
END:VEVENT
BEGIN:VEVENT
DTSTART;TZID=America/New_York:20240614T180000
DTEND;TZID=America/New_York:20240614T210000
DTSTAMP:20260420T080533
CREATED:20240510T142431Z
LAST-MODIFIED:20240510T142431Z
UID:10474-1718388000-1718398800@elkrun.com
SUMMARY:Wine Down Friday's Presents: Poor Ellen Smith Band
DESCRIPTION:http://www.facebook.com/poor-ellen-smith
URL:https://elkrun.com/event/wine-down-fridays-presents-poor-ellen-smith-band/
CATEGORIES:Music
END:VEVENT
BEGIN:VEVENT
DTSTART;TZID=America/New_York:20240615T120000
DTEND;TZID=America/New_York:20240615T170000
DTSTAMP:20260420T080533
CREATED:20240223T170700Z
LAST-MODIFIED:20240223T170700Z
UID:10223-1718452800-1718470800@elkrun.com
SUMMARY:Food Truck: Cooking with Greece
DESCRIPTION:
URL:https://elkrun.com/event/food-truck-cooking-with-greece-4/
CATEGORIES:Food
END:VEVENT
BEGIN:VEVENT
DTSTART;TZID=America/New_York:20240615T190000
DTEND;TZID=America/New_York:20240615T220000
DTSTAMP:20260420T080533
CREATED:20240306T143320Z
LAST-MODIFIED:20240306T151630Z
UID:10261-1718478000-1718488800@elkrun.com
SUMMARY:MJ/Prince Music Night
DESCRIPTION:Come dressed in your MJ or Prince attire. Food Trucks\,vendors\, DJ\, Dancing! $25. ALL AGES WELCOME! \nFor Tickets Click Here
URL:https://elkrun.com/event/mj-prince-music-night/
CATEGORIES:Music
END:VEVENT
BEGIN:VEVENT
DTSTART;TZID=America/New_York:20240616T120000
DTEND;TZID=America/New_York:20240616T180000
DTSTAMP:20260420T080533
CREATED:20240306T152442Z
LAST-MODIFIED:20240306T152442Z
UID:10344-1718539200-1718560800@elkrun.com
SUMMARY:Food Truck: Braglio
DESCRIPTION:
URL:https://elkrun.com/event/food-truck-braglio-2/
CATEGORIES:Food
END:VEVENT
BEGIN:VEVENT
DTSTART;TZID=America/New_York:20240621T180000
DTEND;TZID=America/New_York:20240621T210000
DTSTAMP:20260420T080533
CREATED:20240510T142511Z
LAST-MODIFIED:20240510T142511Z
UID:10476-1718992800-1719003600@elkrun.com
SUMMARY:Wine Down Friday's Presents: Empty Ecstasy
DESCRIPTION:http://www.facebook.com/MTXTCduo
URL:https://elkrun.com/event/wine-down-fridays-presents-empty-ecstasy-2/
CATEGORIES:Music
END:VEVENT
BEGIN:VEVENT
DTSTART;TZID=America/New_York:20240622T140000
DTEND;TZID=America/New_York:20240622T170000
DTSTAMP:20260420T080533
CREATED:20240510T142747Z
LAST-MODIFIED:20240510T142747Z
UID:10482-1719064800-1719075600@elkrun.com
SUMMARY:Sipping Satuday's Presents: Sam Biskin
DESCRIPTION:http://www.facebook.com/sambiskinguitarteacher
URL:https://elkrun.com/event/sipping-satudays-presents-sam-biskin/
CATEGORIES:Music
END:VEVENT
BEGIN:VEVENT
DTSTART;TZID=America/New_York:20240622T190000
DTEND;TZID=America/New_York:20240622T220000
DTSTAMP:20260420T080533
CREATED:20240306T151505Z
LAST-MODIFIED:20240306T151505Z
UID:10329-1719082800-1719093600@elkrun.com
SUMMARY:Girls Night Out
DESCRIPTION:Come for a girls night out under the stars. Vendors\, food trucks and music! $20\nTickets will go on sale soon!\nRain date June 29th
URL:https://elkrun.com/event/girls-night-out/
CATEGORIES:Event
END:VEVENT
BEGIN:VEVENT
DTSTART;TZID=America/New_York:20240623T140000
DTEND;TZID=America/New_York:20240623T170000
DTSTAMP:20260420T080533
CREATED:20240510T143033Z
LAST-MODIFIED:20240510T143033Z
UID:10490-1719151200-1719162000@elkrun.com
SUMMARY:Sipping Sunday's Presents: Casey Cleveland
DESCRIPTION:http://www.reverbnation.com/caseycleveland
URL:https://elkrun.com/event/sipping-sundays-presents-casey-cleveland-2/
CATEGORIES:Music
END:VEVENT
BEGIN:VEVENT
DTSTART;TZID=America/New_York:20240629T140000
DTEND;TZID=America/New_York:20240629T170000
DTSTAMP:20260420T080533
CREATED:20240510T142824Z
LAST-MODIFIED:20240510T142824Z
UID:10485-1719669600-1719680400@elkrun.com
SUMMARY:Sipping Satuday's Presents: John Schneider
DESCRIPTION:http://www.schneidermelody.com
URL:https://elkrun.com/event/sipping-satudays-presents-john-schneider/
CATEGORIES:Music
END:VEVENT
BEGIN:VEVENT
DTSTART;TZID=America/New_York:20240629T190000
DTEND;TZID=America/New_York:20240629T223000
DTSTAMP:20260420T080533
CREATED:20240618T155932Z
LAST-MODIFIED:20240629T212118Z
UID:10531-1719687600-1719700200@elkrun.com
SUMMARY:Girls Night
DESCRIPTION:
URL:https://elkrun.com/event/roaring-40s-casino-night/
CATEGORIES:Event
END:VEVENT
BEGIN:VEVENT
DTSTART;TZID=America/New_York:20240630T130000
DTEND;TZID=America/New_York:20240630T150000
DTSTAMP:20260420T080533
CREATED:20240529T141524Z
LAST-MODIFIED:20240529T141524Z
UID:10511-1719752400-1719759600@elkrun.com
SUMMARY:Pressed flowers in a Frame
DESCRIPTION:Where nature meets artistry. Embark on creating your own personalized pressed flower arrangement in a double glass hanging frame. Choose from various shapes/sizes of hanging frame for your masterpiece\, and a pre-painted watercolor background if you like. As a bonus\, we’ll also teach you some secrets about pressing some flowers from your own gardens.\nThis class is for all skill levels. Presented by Twisted Sisters\, Co\, artists\, crafters and professional floral designers. We will guide you through every step of the way. Come have Fun with us!\nWhat’s included:\n– One complimentary glass of wine. (BYO cheese/crackers\, etc)\n– One pressed flower glass masterpiece!*\n– A day of fun! \n*There will be various shapes/sizes of frames to choose from on a first-come\, first-serve basis.\nClick Here to sign up.
URL:https://elkrun.com/event/pressed-flowers-in-a-frame/
CATEGORIES:Class
END:VEVENT
BEGIN:VEVENT
DTSTART;TZID=America/New_York:20240630T140000
DTEND;TZID=America/New_York:20240630T170000
DTSTAMP:20260420T080533
CREATED:20240510T143103Z
LAST-MODIFIED:20240510T143103Z
UID:10492-1719756000-1719766800@elkrun.com
SUMMARY:Sipping Sunday's Presents: Craig Cummings
DESCRIPTION:http://www.craigcummingsmusic.com
URL:https://elkrun.com/event/sipping-sundays-presents-craig-cummings/
CATEGORIES:Music
END:VEVENT
END:VCALENDAR