BEGIN:VCALENDAR
VERSION:2.0
PRODID:-//Elk Run Vineyard and Winery - ECPv6.15.20//NONSGML v1.0//EN
CALSCALE:GREGORIAN
METHOD:PUBLISH
X-WR-CALNAME:Elk Run Vineyard and Winery
X-ORIGINAL-URL:https://elkrun.com
X-WR-CALDESC:Events for Elk Run Vineyard and Winery
REFRESH-INTERVAL;VALUE=DURATION:PT1H
X-Robots-Tag:noindex
X-PUBLISHED-TTL:PT1H
BEGIN:VTIMEZONE
TZID:America/New_York
BEGIN:DAYLIGHT
TZOFFSETFROM:-0500
TZOFFSETTO:-0400
TZNAME:EDT
DTSTART:20240310T070000
END:DAYLIGHT
BEGIN:STANDARD
TZOFFSETFROM:-0400
TZOFFSETTO:-0500
TZNAME:EST
DTSTART:20241103T060000
END:STANDARD
BEGIN:DAYLIGHT
TZOFFSETFROM:-0500
TZOFFSETTO:-0400
TZNAME:EDT
DTSTART:20250309T070000
END:DAYLIGHT
BEGIN:STANDARD
TZOFFSETFROM:-0400
TZOFFSETTO:-0500
TZNAME:EST
DTSTART:20251102T060000
END:STANDARD
BEGIN:DAYLIGHT
TZOFFSETFROM:-0500
TZOFFSETTO:-0400
TZNAME:EDT
DTSTART:20260308T070000
END:DAYLIGHT
BEGIN:STANDARD
TZOFFSETFROM:-0400
TZOFFSETTO:-0500
TZNAME:EST
DTSTART:20261101T060000
END:STANDARD
END:VTIMEZONE
BEGIN:VEVENT
DTSTART;TZID=America/New_York:20251003T180000
DTEND;TZID=America/New_York:20251003T210000
DTSTAMP:20260421T054027
CREATED:20250923T185744Z
LAST-MODIFIED:20250923T185744Z
UID:11648-1759514400-1759525200@elkrun.com
SUMMARY:Wine Down Friday’s Presents: The Remedy Band 
DESCRIPTION:http://www.remedyband.net
URL:https://elkrun.com/event/wine-down-fridays-presents-the-remedy-band/
END:VEVENT
BEGIN:VEVENT
DTSTART;TZID=America/New_York:20251004T140000
DTEND;TZID=America/New_York:20251004T170000
DTSTAMP:20260421T054027
CREATED:20250923T185907Z
LAST-MODIFIED:20250923T185907Z
UID:11650-1759586400-1759597200@elkrun.com
SUMMARY:Sipping Saturday’s Presents: Sam Biskin
DESCRIPTION:http://www.facebook.com/sambiskinguitarteacher
URL:https://elkrun.com/event/sipping-saturdays-presents-sam-biskin-2/
END:VEVENT
BEGIN:VEVENT
DTSTART;TZID=America/New_York:20251004T190000
DTEND;TZID=America/New_York:20251004T220000
DTSTAMP:20260421T054027
CREATED:20250814T213316Z
LAST-MODIFIED:20250920T000944Z
UID:11535-1759604400-1759615200@elkrun.com
SUMMARY:3rd Annual Taylor Swift Night
DESCRIPTION:Come join us for a night filled with all things Taylor Swift – music\, dancing\, and fun! \nFor Tickets Click Here
URL:https://elkrun.com/event/3rd-annual-taylor-swift-night/
END:VEVENT
BEGIN:VEVENT
DTSTART;TZID=America/New_York:20251005T140000
DTEND;TZID=America/New_York:20251005T170000
DTSTAMP:20260421T054027
CREATED:20250923T190122Z
LAST-MODIFIED:20250923T190122Z
UID:11652-1759672800-1759683600@elkrun.com
SUMMARY:Sipping Sunday’s Presents: Michelle Swan 
DESCRIPTION:http://www.michelleswan.net
URL:https://elkrun.com/event/sipping-sundays-presents-michelle-swan-2/
END:VEVENT
BEGIN:VEVENT
DTSTART;TZID=America/New_York:20251010T180000
DTEND;TZID=America/New_York:20251010T210000
DTSTAMP:20260421T054027
CREATED:20250923T190304Z
LAST-MODIFIED:20250923T190304Z
UID:11654-1760119200-1760130000@elkrun.com
SUMMARY:Wine Down Friday’s Presents: Acoustic Chicks 
DESCRIPTION:http://www.facebook.com/acousticchicks
URL:https://elkrun.com/event/wine-down-fridays-presents-acoustic-chicks-2/
END:VEVENT
BEGIN:VEVENT
DTSTART;TZID=America/New_York:20251011T140000
DTEND;TZID=America/New_York:20251011T170000
DTSTAMP:20260421T054027
CREATED:20250923T190606Z
LAST-MODIFIED:20250924T142657Z
UID:11656-1760191200-1760202000@elkrun.com
SUMMARY:Sipping Saturday’s Presents:  Safe Harbor 
DESCRIPTION:http://www.facebook.com/safeharborduo
URL:https://elkrun.com/event/sipping-saturdays-presents-doug-alan-wilcox-5/
END:VEVENT
BEGIN:VEVENT
DTSTART;TZID=America/New_York:20251011T190000
DTEND;TZID=America/New_York:20251011T220000
DTSTAMP:20260421T054027
CREATED:20250921T175344Z
LAST-MODIFIED:20250921T175344Z
UID:11644-1760209200-1760220000@elkrun.com
SUMMARY:Wicked Night!
DESCRIPTION:Get ready for a wild night full of mischief\, mayhem\, and magic at Wicked Night – where the fun never stops! \n  \nFor Tickets Click Here
URL:https://elkrun.com/event/wicked-night/
CATEGORIES:Movie
END:VEVENT
BEGIN:VEVENT
DTSTART;TZID=America/New_York:20251012T140000
DTEND;TZID=America/New_York:20251012T170000
DTSTAMP:20260421T054027
CREATED:20250923T190804Z
LAST-MODIFIED:20250923T190804Z
UID:11658-1760277600-1760288400@elkrun.com
SUMMARY:Sipping Sunday’s Presents: Mike Schirf
DESCRIPTION:
URL:https://elkrun.com/event/sipping-sundays-presents-mike-schirf/
END:VEVENT
BEGIN:VEVENT
DTSTART;TZID=America/New_York:20251017T180000
DTEND;TZID=America/New_York:20251017T210000
DTSTAMP:20260421T054027
CREATED:20250923T190930Z
LAST-MODIFIED:20250923T190930Z
UID:11660-1760724000-1760734800@elkrun.com
SUMMARY:Wine Down Friday’s Presents: Petite Fleur Band
DESCRIPTION:www.instagram@petitefleurband
URL:https://elkrun.com/event/wine-down-fridays-presents-petite-fleur-band-3/
END:VEVENT
BEGIN:VEVENT
DTSTART;TZID=America/New_York:20251018T140000
DTEND;TZID=America/New_York:20251018T170000
DTSTAMP:20260421T054027
CREATED:20250923T191126Z
LAST-MODIFIED:20250923T191126Z
UID:11664-1760796000-1760806800@elkrun.com
SUMMARY:Sipping Saturday’s Presents: John Schneider
DESCRIPTION:http://www.schneidermelody.com
URL:https://elkrun.com/event/sipping-saturdays-presents-john-schneider-2/
END:VEVENT
BEGIN:VEVENT
DTSTART;TZID=America/New_York:20251019T140000
DTEND;TZID=America/New_York:20251019T170000
DTSTAMP:20260421T054027
CREATED:20250923T191330Z
LAST-MODIFIED:20250923T191330Z
UID:11666-1760882400-1760893200@elkrun.com
SUMMARY:Sipping Sunday’s Presents: Josh Bayer 
DESCRIPTION:http://www.joshuabayer.com
URL:https://elkrun.com/event/sipping-sundays-presents-josh-bayer-2/
END:VEVENT
BEGIN:VEVENT
DTSTART;TZID=America/New_York:20251024T180000
DTEND;TZID=America/New_York:20251024T210000
DTSTAMP:20260421T054027
CREATED:20251023T192145Z
LAST-MODIFIED:20251023T192145Z
UID:11687-1761328800-1761339600@elkrun.com
SUMMARY:Wine Down Friday’s Presents: Rebecca Berlin and Broomaker
DESCRIPTION:
URL:https://elkrun.com/event/wine-down-fridays-presents-rebecca-berlin-and-broomaker/
END:VEVENT
BEGIN:VEVENT
DTSTART;TZID=America/New_York:20251025T140000
DTEND;TZID=America/New_York:20251025T170000
DTSTAMP:20260421T054027
CREATED:20250923T191507Z
LAST-MODIFIED:20250923T191648Z
UID:11668-1761400800-1761411600@elkrun.com
SUMMARY:Sipping Saturday’s Presents:  Nicole Davis & Marcus Smith
DESCRIPTION:
URL:https://elkrun.com/event/wine-down-fridays-presents-nicole-davis-marcus-smith/
END:VEVENT
BEGIN:VEVENT
DTSTART;TZID=America/New_York:20251026T140000
DTEND;TZID=America/New_York:20251026T170000
DTSTAMP:20260421T054027
CREATED:20250923T191749Z
LAST-MODIFIED:20250923T191749Z
UID:11671-1761487200-1761498000@elkrun.com
SUMMARY:Sipping Sunday’s Presents: Manley Hourihan
DESCRIPTION:
URL:https://elkrun.com/event/sipping-sundays-presents-manley-hourihan/
END:VEVENT
END:VCALENDAR